BEGIN:VCALENDAR
VERSION:2.0
PRODID:icalendar-ruby
CALSCALE:GREGORIAN
METHOD:PUBLISH
BEGIN:VEVENT
DTSTAMP:20260423T110236Z
UID:11-702558@onetwochurch.com
DTSTART:20260809T140000Z
DTEND:20260809T150000Z
CLASS:PUBLIC
CREATED:20260422T211554
DESCRIPTION:
LAST-MODIFIED:20260422T211554
LOCATION:5908 Padre Blvd.
SUMMARY:OneTwo Church
URL;VALUE=URI:https://www.onetwochurch.com/events/onetwo-church/2026-08-09
ATTACH;FILENAME=Untitled-design.jpg;FMTTYPE=image/jpeg:https://dq5pwpg1q8ru
 0.cloudfront.net/2025/08/02/16/13/41/028a4a1f-e93e-4f7d-870f-3ae685949eaa/
 Untitled-design.jpg
END:VEVENT
END:VCALENDAR
