BEGIN:VCALENDAR
VERSION:2.0
PRODID:icalendar-ruby
CALSCALE:GREGORIAN
METHOD:PUBLISH
BEGIN:VEVENT
DTSTAMP:20260421T164506Z
UID:11-700844@onetwochurch.com
DTSTART:20250309T140000Z
DTEND:20250309T150000Z
CLASS:PUBLIC
CREATED:20260421T090951
DESCRIPTION:
LAST-MODIFIED:20260421T090951
LOCATION:5908 Padre Blvd.
SUMMARY:OneTwo Church
URL;VALUE=URI:https://www.onetwochurch.com/events/onetwo-church/2025-03-09
ATTACH;FILENAME=Untitled-design.jpg;FMTTYPE=image/jpeg:https://dq5pwpg1q8ru
 0.cloudfront.net/2025/08/02/16/13/41/028a4a1f-e93e-4f7d-870f-3ae685949eaa/
 Untitled-design.jpg
END:VEVENT
END:VCALENDAR
